Workbook

Sheet GDPdata
A1: Country Name | B1: Indicator Name | C1: 1960 | D1: 1961 | E1: 1962 | F1: 1963 | G1: 1964 | H1: 1965 | I1: 1966 | J1: 1967 | K1: 1968 | L1: 1969 | M1: 1970 | N1: 1971 | O1: 1972 | P1: 1973 | Q1: 1974 | R1: 1975 | S1: 1976 | T1: 1977 | U1: 1978 | V1: 1979 | W1: 1980 | X1: 1981 | Y1: 1982 | Z1: 1983 | AA1: 1984 | AB1: 1985 | AC1: 1986 | AD1: 1987 | AE1: 1988 | AF1: 1989 | AG1: 1990 | AH1: 1991 | AI1: 1992 | AJ1: 1993 | AK1: 1994 | AL1: 1995 | AM1: 1996 | AN1: 1997 | AO1: 1998 | AP1: 1999 | AQ1: 2000 | AR1: 2001 | AS1: 2002 | AT1: 2003 | AU1: 2004 | AV1: 2005 | AW1: 2006 | AX1: 2007 | AY1: 2008 | AZ1: 2009 | BA1: 2010 | BB1: 2011 | BC1: 2012 | BD1: 2013 | BE1: 2014 | BF1: 2015 | BG1: 2016 | BI1: Country Name | BJ1: Aruba | BK1: Afghanistan | BL1: Angola | BM1: Albania | BN1: Andorra | BO1: Arab World | BP1: United Arab Emirates | BQ1: Argentina | BR1: Armenia | BS1: American Samoa | BT1: Antigua and Barbuda | BU1: Australia | BV1: Austria | BW1: Azerbaijan | BX1: Burundi | BY1: Belgium | BZ1: Benin | CA1: Burkina Faso | CB1: Bangladesh | CC1: Bulgaria | CD1: Bahrain | CE1: Bahamas, The | CF1: Bosnia and Herzegovina | CG1: Belarus | CH1: Belize | CI1: Bermuda | CJ1: Bolivia | CK1: Brazil | CL1: Barbados | CM1: Brunei Darussalam | CN1: Bhutan | CO1: Botswana | CP1: Central African Republic | CQ1: Canada | CR1: Central Europe and the Baltics | CS1: Switzerland | CT1: Channel Islands | CU1: Chile | CV1: China | CW1: Cote d'Ivoire | CX1: Cameroon | CY1: Congo, Dem. Rep. | CZ1: Congo, Rep. | DA1: Colombia | DB1: Comoros | DC1: Cabo Verde | DD1: Costa Rica | DE1: Caribbean small states | DF1: Cuba | DG1: Curacao | DH1: Cayman Islands | DI1: Cyprus | DJ1: Czech Republic | DK1: Germany | DL1: Djibouti | DM1: Dominica | DN1: Denmark | DO1: Dominican Republic | DP1: Algeria | DQ1: East Asia & Pacific (excluding high income) | DR1: Early-demographic dividend | DS1: East Asia & Pacific | DT1: Europe & Central Asia (excluding high income) | DU1: Europe & Central Asia | DV1: Ecuador | DW1: Egypt, Arab Rep. | DX1: Euro area | DY1: Eritrea | DZ1: Spain | EA1: Estonia | EB1: Ethiopia | EC1: European Union | ED1: Fragile and conflict affected situations | EE1: Finland | EF1: Fiji | EG1: France | EH1: Faroe Islands | EI1: Micronesia, Fed. Sts. | EJ1: Gabon | EK1: United Kingdom | EL1: Georgia | EM1: Ghana | EN1: Gibraltar | EO1: Guinea | EP1: Gambia, The | EQ1: Guinea-Bissau | ER1: Equatorial Guinea | ES1: Greece | ET1: Grenada | EU1: Greenland | EV1: Guatemala | EW1: Guam | EX1: Guyana | EY1: High income | EZ1: Hong Kong SAR, China | FA1: Honduras | FB1: Heavily indebted poor countries (HIPC) | FC1: Croatia | FD1: Haiti | FE1: Hungary | FF1: IBRD only | FG1: IDA & IBRD total | FH1: IDA total | FI1: IDA blend | FJ1: Indonesia | FK1: IDA only | FL1: Isle of Man | FM1: India | FN1: Not classified | FO1: Ireland | FP1: Iran, Islamic Rep. | FQ1: Iraq | FR1: Iceland | FS1: Israel | FT1: Italy | FU1: Jamaica | FV1: Jordan | FW1: Japan | FX1: Kazakhstan | FY1: Kenya | FZ1: Kyrgyz Republic | GA1: Cambodia | GB1: Kiribati | GC1: St. Kitts and Nevis | GD1: Korea, Rep. | GE1: Kuwait | GF1: Latin America & Caribbean (excluding high income) | GG1: Lao PDR | GH1: Lebanon | GI1: Liberia | GJ1: Libya | GK1: St. Lucia | GL1: Latin America & Caribbean | GM1: Least developed countries: UN classification | GN1: Low income | GO1: Liechtenstein | GP1: Sri Lanka | GQ1: Lower middle income | GR1: Low & middle income | GS1: Lesotho | GT1: Late-demographic dividend | GU1: Lithuania | GV1: Luxembourg | GW1: Latvia | GX1: Macao SAR, China | GY1: St. Martin (French part) | GZ1: Morocco | HA1: Monaco | HB1: Moldova | HC1: Madagascar | HD1: Maldives | HE1: Middle East & North Africa | HF1: Mexico | HG1: Marshall Islands | HH1: Middle income | HI1: Macedonia, FYR | HJ1: Mali | HK1: Malta | HL1: Myanmar | HM1: Middle East & North Africa (excluding high income) | HN1: Montenegro | HO1: Mongolia | HP1: Northern Mariana Islands | HQ1: Mozambique | HR1: Mauritania | HS1: Mauritius | HT1: Malawi | HU1: Malaysia | HV1: North America | HW1: Namibia | HX1: New Caledonia | HY1: Niger | HZ1: Nigeria | IA1: Nicaragua | IB1: Netherlands | IC1: Norway | ID1: Nepal | IE1: Nauru | IF1: New Zealand | IG1: OECD members | IH1: Oman | II1: Other small states | IJ1: Pakistan | IK1: Panama | IL1: Peru | IM1: Philippines | IN1: Palau | IO1: Papua New Guinea | IP1: Poland | IQ1: Pre-demographic dividend | IR1: Puerto Rico | IS1: Korea, Dem. People’s Rep. | IT1: Portugal | IU1: Paraguay | IV1: West Bank and Gaza | IW1: Pacific island small states | IX1: Post-demographic dividend | IY1: French Polynesia | IZ1: Qatar | JA1: Romania | JB1: Russian Federation | JC1: Rwanda | JD1: South Asia | JE1: Saudi Arabia | JF1: Sudan | JG1: Senegal | JH1: Singapore | JI1: Solomon Islands | JJ1: Sierra Leone | JK1: El Salvador | JL1: San Marino | JM1: Somalia | JN1: Serbia | JO1: Sub-Saharan Africa (excluding high income) | JP1: South Sudan | JQ1: Sub-Saharan Africa | JR1: Small states | JS1: Sao Tome and Principe | JT1: Suriname | JU1: Slovak Republic | JV1: Slovenia | JW1: Sweden | JX1: Swaziland | JY1: Sint Maarten (Dutch part) | JZ1: Seychelles | KA1: Syrian Arab Republic | KB1: Turks and Caicos Islands | KC1: Chad | KD1: East Asia & Pacific (IDA & IBRD countries) | KE1: Europe & Central Asia (IDA & IBRD countries) | KF1: Togo | KG1: Thailand | KH1: Tajikistan | KI1: Turkmenistan | KJ1: Latin America & the Caribbean (IDA & IBRD countries) | KK1: Timor-Leste | KL1: Middle East & North Africa (IDA & IBRD countries) | KM1: Tonga | KN1: South Asia (IDA & IBRD) | KO1: Sub-Saharan Africa (IDA & IBRD countries) | KP1: Trinidad and Tobago | KQ1: Tunisia | KR1: Turkey | KS1: Tuvalu | KT1: Tanzania | KU1: Uganda | KV1: Ukraine | KW1: Upper middle income | KX1: Uruguay | KY1: United States | KZ1: Uzbekistan | LA1: St. Vincent and the Grenadines | LB1: Venezuela, RB | LC1: British Virgin Islands | LD1: Virgin Islands (U.S.) | LE1: Vietnam | LF1: Vanuatu | LG1: World | LH1: Samoa | LI1: Kosovo | LJ1: Yemen, Rep. | LK1: South Africa | LL1: Zambia | LM1: Zimbabwe
A2: Aruba | B2: GDP (current US$) | AK2: 1.3301676e+09 | AL2: 1.3206704e+09 | AM2: 1.3798883e+09 | AN2: 1.5318436e+09 | AO2: 1.6653631e+09 | AP2: 1.7227989e+09 | AQ2: 1.8734525e+09 | AR2: 1.9202626e+09 | AS2: 1.941095e+09 | AT2: 2.0213017e+09 | AU2: 2.2282793e+09 | AV2: 2.3310056e+09 | AW2: 2.4214749e+09 | AX2: 2.6237263e+09 | AY2: 2.7919609e+09 | AZ2: 2.498933e+09 | BA2: 2.4677039e+09 | BB2: 2.5844637e+09 | BI2: Indicator Name | BJ2: GDP (current US$) | BK2: GDP (current US$) | BL2: GDP (current US$) | BM2: GDP (current US$) | BN2: GDP (current US$) | BO2: GDP (current US$) | BP2: GDP (current US$) | BQ2: GDP (current US$) | BR2: GDP (current US$) | BS2: GDP (current US$) | BT2: GDP (current US$) | BU2: GDP (current US$) | BV2: GDP (current US$) | BW2: GDP (current US$) | BX2: GDP (current US$) | BY2: GDP (current US$) | BZ2: GDP (current US$) | CA2: GDP (current US$) | CB2: GDP (current US$) | CC2: GDP (current US$) | CD2: GDP (current US$) | CE2: GDP (current US$) | CF2: GDP (current US$) | CG2: GDP (current US$) | CH2: GDP (current US$) | CI2: GDP (current US$) | CJ2: GDP (current US$) | CK2: GDP (current US$) | CL2: GDP (current US$) | CM2: GDP (current US$) | CN2: GDP (current US$) | CO2: GDP (current US$) | CP2: GDP (current US$) | CQ2: GDP (current US$) | CR2: GDP (current US$) | CS2: GDP (current US$) | CT2: GDP (current US$) | CU2: GDP (current US$) | CV2: GDP (current US$) | CW2: GDP (current US$) | CX2: GDP (current US$) | CY2: GDP (current US$) | CZ2: GDP (current US$) | DA2: GDP (current US$) | DB2: GDP (current US$) | DC2: GDP (current US$) | DD2: GDP (current US$) | DE2: GDP (current US$) | DF2: GDP (current US$) | DG2: GDP (current US$) | DH2: GDP (current US$) | DI2: GDP (current US$) | DJ2: GDP (current US$) | DK2: GDP (current US$) | DL2: GDP (current US$) | DM2: GDP (current US$) | DN2: GDP (current US$) | DO2: GDP (current US$) | DP2: GDP (current US$) | DQ2: GDP (current US$) | DR2: GDP (current US$) | DS2: GDP (current US$) | DT2: GDP (current US$) | DU2: GDP (current US$) | DV2: GDP (current US$) | DW2: GDP (current US$) | DX2: GDP (current US$) | DY2: GDP (current US$) | DZ2: GDP (current US$) | EA2: GDP (current US$) | EB2: GDP (current US$) | EC2: GDP (current US$) | ED2: GDP (current US$) | EE2: GDP (current US$) | EF2: GDP (current US$) | EG2: GDP (current US$) | EH2: GDP (current US$) | EI2: GDP (current US$) | EJ2: GDP (current US$) | EK2: GDP (current US$) | EL2: GDP (current US$) | EM2: GDP (current US$) | EN2: GDP (current US$) | EO2: GDP (current US$) | EP2: GDP (current US$) | EQ2: GDP (current US$) | ER2: GDP (current US$) | ES2: GDP (current US$) | ET2: GDP (current US$) | EU2: GDP (current US$) | EV2: GDP (current US$) | EW2: GDP (current US$) | EX2: GDP (current US$) | EY2: GDP (current US$) | EZ2: GDP (current US$) | FA2: GDP (current US$) | FB2: GDP (current US$) | FC2: GDP (current US$) | FD2: GDP (current US$) | FE2: GDP (current US$) | FF2: GDP (current US$) | FG2: GDP (current US$) | FH2: GDP (current US$) | FI2: GDP (current US$) | FJ2: GDP (current US$) | FK2: GDP (current US$) | FL2: GDP (current US$) | FM2: GDP (current US$) | FN2: GDP (current US$) | FO2: GDP (current US$) | FP2: GDP (current US$) | FQ2: GDP (current US$) | FR2: GDP (current US$) | FS2: GDP (current US$) | FT2: GDP (current US$) | FU2: GDP (current US$) | FV2: GDP (current US$) | FW2: GDP (current US$) | FX2: GDP (current US$) | FY2: GDP (current US$) | FZ2: GDP (current US$) | GA2: GDP (current US$) | GB2: GDP (current US$) | GC2: GDP (current US$) | GD2: GDP (current US$) | GE2: GDP (current US$) | GF2: GDP (current US$) | GG2: GDP (current US$) | GH2: GDP (current US$) | GI2: GDP (current US$) | GJ2: GDP (current US$) | GK2: GDP (current US$) | GL2: GDP (current US$) | GM2: GDP (current US$) | GN2: GDP (current US$) | GO2: GDP (current US$) | GP2: GDP (current US$) | GQ2: GDP (current US$) | GR2: GDP (current US$) | GS2: GDP (current US$) | GT2: GDP (current US$) | GU2: GDP (current US$) | GV2: GDP (current US$) | GW2: GDP (current US$) | GX2: GDP (current US$) | GY2: GDP (current US$) | GZ2: GDP (current US$) | HA2: GDP (current US$) | HB2: GDP (current US$) | HC2: GDP (current US$) | HD2: GDP (current US$) | HE2: GDP (current US$) | HF2: GDP (current US$) | HG2: GDP (current US$) | HH2: GDP (current US$) | HI2: GDP (current US$) | HJ2: GDP (current US$) | HK2: GDP (current US$) | HL2: GDP (current US$) | HM2: GDP (current US$) | HN2: GDP (current US$) | HO2: GDP (current US$) | HP2: GDP (current US$) | HQ2: GDP (current US$) | HR2: GDP (current US$) | HS2: GDP (current US$) | HT2: GDP (current US$) | HU2: GDP (current US$) | HV2: GDP (current US$) | HW2: GDP (current US$) | HX2: GDP (current US$) | HY2: GDP (current US$) | HZ2: GDP (current US$) | IA2: GDP (current US$) | IB2: GDP (current US$) | IC2: GDP (current US$) | ID2: GDP (current US$) | IE2: GDP (current US$) | IF2: GDP (current US$) | IG2: GDP (current US$) | IH2: GDP (current US$) | II2: GDP (current US$) | IJ2: GDP (current US$) | IK2: GDP (current US$) | IL2: GDP (current US$) | IM2: GDP (current US$) | IN2: GDP (current US$) | IO2: GDP (current US$) | IP2: GDP (current US$) | IQ2: GDP (current US$) | IR2: GDP (current US$) | IS2: GDP (current US$) | IT2: GDP (current US$) | IU2: GDP (current US$) | IV2: GDP (current US$) | IW2: GDP (current US$) | IX2: GDP (current US$) | IY2: GDP (current US$) | IZ2: GDP (current US$) | JA2: GDP (current US$) | JB2: GDP (current US$) | JC2: GDP (current US$) | JD2: GDP (current US$) | JE2: GDP (current US$) | JF2: GDP (current US$) | JG2: GDP (current US$) | JH2: GDP (current US$) | JI2: GDP (current US$) | JJ2: GDP (current US$) | JK2: GDP (current US$) | JL2: GDP (current US$) | JM2: GDP (current US$) | JN2: GDP (current US$) | JO2: GDP (current US$) | JP2: GDP (current US$) | JQ2: GDP (current US$) | JR2: GDP (current US$) | JS2: GDP (current US$) | JT2: GDP (current US$) | JU2: GDP (current US$) | JV2: GDP (current US$) | JW2: GDP (current US$) | JX2: GDP (current US$) | JY2: GDP (current US$) | JZ2: GDP (current US$) | KA2: GDP (current US$) | KB2: GDP (current US$) | KC2: GDP (current US$) | KD2: GDP (current US$) | KE2: GDP (current US$) | KF2: GDP (current US$) | KG2: GDP (current US$) | KH2: GDP (current US$) | KI2: GDP (current US$) | KJ2: GDP (current US$) | KK2: GDP (current US$) | KL2: GDP (current US$) | KM2: GDP (current US$) | KN2: GDP (current US$) | KO2: GDP (current US$) | KP2: GDP (current US$) | KQ2: GDP (current US$) | KR2: GDP (current US$) | KS2: GDP (current US$) | KT2: GDP (current US$) | KU2: GDP (current US$) | KV2: GDP (current US$) | KW2: GDP (current US$) | KX2: GDP (current US$) | KY2: GDP (current US$) | KZ2: GDP (current US$) | LA2: GDP (current US$) | LB2: GDP (current US$) | LC2: GDP (current US$) | LD2: GDP (current US$) | LE2: GDP (current US$) | LF2: GDP (current US$) | LG2: GDP (current US$) | LH2: GDP (current US$) | LI2: GDP (current US$) | LJ2: GDP (current US$) | LK2: GDP (current US$) | LL2: GDP (current US$) | LM2: GDP (current US$)
A3: Afghanistan | B3: GDP (current US$) | C3: 5.3777781e+08 | D3: 5.488889e+08 | E3: 5.4666668e+08 | F3: 7.5111119e+08 | G3: 8.0000004e+08 | H3: 1.0066666e+09 | I3: 1.4e+09 | J3: 1.6733334e+09 | K3: 1.3733334e+09 | L3: 1.4088889e+09 | M3: 1.7488866e+09 | N3: 1.831109e+09 | O3: 1.5955555e+09 | P3: 1.7333333e+09 | Q3: 2.1555555e+09 | R3: 2.3666666e+09 | S3: 2.5555556e+09 | T3: 2.9533334e+09 | U3: 3.3000001e+09 | V3: 3.6979404e+09 | W3: 3.6417233e+09 | X3: 3.4787879e+09 | AR3: 2.4616659e+09 | AS3: 4.1288207e+09 | AT3: 4.5836442e+09 | AU3: 5.2854657e+09 | AV3: 6.2750736e+09 | AW3: 7.0575984e+09 | AX3: 9.8438425e+09 | AY3: 1.019053e+10 | AZ3: 1.2486944e+10 | BA3: 1.5936801e+10 | BB3: 1.7930239e+10 | BC3: 2.0536543e+10 | BD3: 2.0046334e+10 | BE3: 2.005019e+10 | BF3: 1.9702986e+10 | BG3: 1.9469022e+10 | BI3: 1960 | BK3: 5.3777781e+08 | BU3: 1.8593348e+10 | BV3: 6.5926938e+09 | BX3: 195999990 | BY3: 1.1658723e+10 | BZ3: 2.2619558e+08 | CA3: 3.3044282e+08 | CB3: 4.2748939e+09 | CE3: 1.6980392e+08 | CH3: 28071889 | CI3: 84466654 | CJ3: 5.6311005e+08 | CK3: 1.516557e+10 | CO3: 30412309 | CP3: 1.121556e+08 | CQ3: 4.1093454e+10 | CS3: 9.5227467e+09 | CU3: 4.11e+09 | CV3: 5.9716468e+10 | CW3: 5.4620356e+08 | CX3: 6.1874099e+08 | CY3: 3.3594041e+09 | CZ3: 1.3173186e+08 | DA3: 4.0409482e+09 | DD3: 5.0751383e+08 | DE3: 1.9226408e+09 | DN3: 6.2489469e+09 | DO3: 6.723997e+08 | DP3: 2.7236486e+09 | DQ3: 8.0250608e+10 | DR3: 1.5222202e+11 | DS3: 1.5340606e+11 | DU3: 4.3276369e+11 | DV3: 1.0103251e+09 | DX3: 2.4538952e+11 | DZ3: 1.2072126e+10 | EC3: 3.5893967e+11 | EE3: 5.2241022e+09 | EF3: 1.1232842e+08 | EG3: 6.2651475e+10 | EJ3: 1.4146898e+08 | EK3: 7.2328047e+10 | EM3: 1.2172301e+09 | ES3: 4.4465282e+09 | EV3: 1.0435999e+09 | EX3: 1.7021525e+08 | EY3: 1.0602439e+12 | EZ3: 1.3207967e+09 | FA3: 3.3565e+08 | FB3: 1.7566642e+10 | FF3: 2.9479254e+11 | FG3: 3.3241055e+11 | FH3: 3.8748692e+10 | FI3: 1.2528092e+10 | FK3: 2.690073e+10 | FM3: 3.6535925e+10 | FO3: 1.9393298e+09 | FP3: 4.1991344e+09 | FQ3: 1.6841215e+09 | FR3: 2.484341e+08 | FS3: 2598500000 | FT3: 4.0385288e+10 | FU3: 6.9905068e+08 | FW3: 4.4307343e+10 | FY3: 7.9126546e+08 | GA3: 6.3714287e+08 | GC3: 12366564 | GD3: 3.9578739e+09 | GF3: 7.3395468e+10 | GI3: 190495600 | GL3: 8.1335708e+10 | GP3: 1.4098739e+09 | GR3: 3.2288092e+11 | GS3: 34579308 | GT3: 1.7097985e+11 | GV3: 7.0392571e+08 | GZ3: 2.0371507e+09 | HC3: 6.7308172e+08 | HF3: 13056168000 | HH3: 3.1037964e+11 | HR3: 92609223 | HT3: 1.6296013e+08 | HU3: 1.916242e+09 | HV3: 5.8447792e+11 | HY3: 4.4952687e+08 | HZ3: 4.1960923e+09 | IA3: 2.2385467e+08 | IB3: 1.2276734e+10 | IC3: 5.1632716e+09 | ID3: 5.0833441e+08 | IF3: 5.4858548e+09 | IG3: 1.0711485e+12 | IJ3: 3.7070559e+09 | IK3: 537147100 | IL3: 2.5719081e+09 | IM3: 6.6845688e+09 | IO3: 2.3049603e+08 | IQ3: 1.0444793e+10 | IR3: 1691900000 | IT3: 3.1932004e+09 | IX3: 1.0446565e+12 | JC3: 119000024 | JD3: 4.6535882e+10 | JF3: 1.3073333e+09 | JG3: 7.9282471e+08 | JH3: 7.044623e+08 | JJ3: 3.2200947e+08 | JO3: 3.0375251e+10 | JQ3: 3.0385873e+10 | JT3: 93850000 | JW3: 1.484287e+10 | JX3: 35076158 | JZ3: 12012025 | KA3: 8.5770443e+08 | KC3: 3.1358273e+08 | KD3: 8.0087763e+10 | KF3: 1.2112807e+08 | KG3: 2.7607475e+09 | KJ3: 7.6482118e+10 | KN3: 4.6535882e+10 | KO3: 3.0385873e+10 | KP3: 5.3567013e+08 | KR3: 1.3995068e+10 | KU3: 4.2300839e+08 | KW3: 2.1719865e+11 | KX3: 1.2422892e+09 | KY3: 543300000000 | LA3: 13066558 | LB3: 8.7369394e+09 | LD3: 24200000 | LG3: 1.3665947e+12 | LK3: 7.5752485e+09 | LL3: 713000000 | LM3: 1052990400
A4: Angola | B4: GDP (current US$) | AB4: 6.684492e+09 | AC4: 6.684492e+09 | AD4: 6.684492e+09 | AE4: 6.684492e+09 | AF4: 1.0026738e+10 | AG4: 1.0026738e+10 | AH4: 1.2118611e+10 | AI4: 5.6842917e+09 | AJ4: 5.278183e+09 | AK4: 4.0593522e+09 | AL4: 5.0395525e+09 | AM4: 7.5264466e+09 | AN4: 7.6483774e+09 | AO4: 6.4450418e+09 | AP4: 6.1529229e+09 | AQ4: 9.1295948e+09 | AR4: 8.9360637e+09 | AS4: 1.2497347e+10 | AT4: 1.4188949e+10 | AU4: 1.9640849e+10 | AV4: 2.8233713e+10 | AW4: 4.1789479e+10 | AX4: 6.0448921e+10 | AY4: 8.4178033e+10 | AZ4: 7.5492385e+10 | BA4: 8.2470913e+10 | BB4: 1.0411592e+11 | BC4: 1.1539837e+11 | BD4: 1.2491206e+11 | BE4: 1.2677687e+11 | BF4: 1.0296225e+11 | BG4: 8.9633156e+10 | BI4: 1961 | BK4: 5.488889e+08 | BU4: 1.9666256e+10 | BV4: 7.3117496e+09 | BX4: 202999992 | BY4: 1.2400145e+10 | BZ4: 2.3566822e+08 | CA4: 3.5024724e+08 | CB4: 4.8175802e+09 | CE4: 1.9009804e+08 | CH4: 29964371 | CI4: 89249987 | CJ4: 6.1251891e+08 | CK4: 1.5236855e+10 | CO4: 32902337 | CP4: 1.2313458e+08 | CQ4: 4.0767969e+10 | CS4: 1.0712712e+10 | CU4: 4.6097273e+09 | CV4: 5.0056869e+10 | CW4: 6.1824564e+08 | CX4: 6.5759738e+08 | CY4: 3.0867469e+09 | CZ4: 1.5167574e+08 | DA4: 4552914000 | DD4: 4.9032518e+08 | DE4: 2.0808301e+09 | DN4: 6.9338421e+09 | DO4: 654100200 | DP4: 2.4347766e+09 | DQ4: 7.044612e+10 | DR4: 1.5317417e+11 | DS4: 1.5385191e+11 | DU4: 4.6066888e+11 | DV4: 9.7910881e+08 | DX4: 2.7010874e+11 | DZ4: 1.3834301e+10 | EC4: 3.9078954e+11 | EE4: 5.9216595e+09 | EF4: 1.1698778e+08 | EG4: 6.8346742e+10 | EJ4: 1.6763791e+08 | EK4: 7.6694361e+10 | EM4: 1.3026743e+09 | ES4: 5.0160488e+09 | EV4: 1076699900 | EX4: 1.8584845e+08 | EY4: 1.1219813e+12 | EZ4: 1.3836817e+09 | FA4: 3.562e+08 | FB4: 1.8033526e+10 | FF4: 2.8162625e+11 | FG4: 3.2198581e+11 | FH4: 4.0905486e+10 | FI4: 1.3388928e+10 | FK4: 2.8202128e+10 | FM4: 3.8709096e+10 | FO4: 2.0880123e+09 | FP4: 4.4269491e+09 | FQ4: 1.8317004e+09 | FR4: 2.5388566e+08 | FS4: 3138500000 | FT4: 4.484276e+10 | FU4: 7.4802884e+08 | FW4: 5.3508618e+10 | FY4: 7.9295947e+08 | GA4: 6.4285713e+08 | GC4: 12483229 | GD4: 2.4172378e+09 | GF4: 7.712961e+10 | GI4: 183920900 | GL4: 8.6401584e+10 | GP4: 1.4443277e+09 | GR4: 3.1123172e+11 | GS4: 35699286 | GT4: 1.5789712e+11 | GV4: 7.0414567e+08 | GZ4: 2.0256895e+09 | HC4: 6.9916194e+08 | HF4: 1.4153952e+10 | HH4: 2.9862986e+11 | HR4: 1.0772618e+08 | HT4: 1.7458014e+08 | HU4: 1.9018685e+09 | HV4: 6.0415722e+11 | HY4: 4.8578523e+08 | HZ4: 4.4672003e+09 | IA4: 2.4052472e+08 | IB4: 1.3493834e+10 | IC4: 5.6324609e+09 | ID4: 5.3195956e+08 | IF4: 5.6700642e+09 | IG4: 1.1258329e+12 | IJ4: 4.0545992e+09 | IK4: 599026300 | IL4: 2.8996548e+09 | IM4: 7.256967e+09 | IO4: 2.4483204e+08 | IQ4: 1.0792191e+10 | IR4: 1865100000 | IT4: 3.4175166e+09 | IX4: 1.104233e+12 | JC4: 1.2200002e+08 | JD4: 4.9639265e+10 | JF4: 1.4193333e+09 | JG4: 8.3649311e+08 | JH4: 7.6430811e+08 | JJ4: 3.2783468e+08 | JO4: 3.1551059e+10 | JQ4: 3.156107e+10 | JT4: 98400000 | JW4: 1.614716e+10 | JX4: 43025199 | JZ4: 11592024 | KA4: 9.4524499e+08 | KC4: 3.3397534e+08 | KD4: 7.0303171e+10 | KF4: 1.2639647e+08 | KG4: 3.0340436e+09 | KJ4: 8.1138599e+10 | KN4: 4.9639265e+10 | KO4: 3.156107e+10 | KP4: 5.8496121e+08 | KR4: 8.0222222e+09 | KU4: 4.4152411e+08 | KW4: 1.98163e+11 | KX4: 1.5473888e+09 | KY4: 563300000000 | LA4: 13999883 | LB4: 9.0581212e+09 | LD4: 25700000 | LG4: 1.42171e+12 | LK4: 7.9728405e+09 | LL4: 6.9628571e+08 | LM4: 1096646600
A5: Albania | B5: GDP (current US$) | AA5: 1.9242425e+09 | AB5: 1.9653846e+09 | AC5: 2.17375e+09 | AD5: 2156624900 | AE5: 2126000000 | AF5: 2.335125e+09 | AG5: 2.101625e+09 | AH5: 1.1391666e+09 | AI5: 7.0945258e+08 | AJ5: 1.228071e+09 | AK5: 1.9856738e+09 | AL5: 2.424499e+09 | AM5: 3.3148983e+09 | AN5: 2.3599031e+09 | AO5: 2.7071238e+09 | AP5: 3.4147609e+09 | AQ5: 3.6320439e+09 | AR5: 4.0607588e+09 | AS5: 4.4350786e+09 | AT5: 5.7469459e+09 | AU5: 7.3148652e+09 | AV5: 8.1585487e+09 | AW5: 8.9926423e+09 | AX5: 1.0701012e+10 | AY5: 1.2881353e+10 | AZ5: 1.2044213e+10 | BA5: 1.1926953e+10 | BB5: 1.2890868e+10 | BC5: 1.2319785e+10 | BD5: 1.278103e+10 | BE5: 1.3219857e+10 | BF5: 1.1390365e+10 | BG5: 1.1926892e+10 | BI5: 1962 | BK5: 5.4666668e+08 | BQ5: 2.4450605e+10 | BU5: 1.9911524e+10 | BV5: 7.7561102e+09 | BX5: 213500006 | BY5: 1.3264016e+10 | BZ5: 2.3643491e+08 | CA5: 3.7956718e+08 | CB5: 5.0814133e+09 | CE5: 2.122549e+08 | CH5: 31856923 | CI5: 94149986 | CJ5: 6.6972254e+08 | CK5: 1.9926294e+10 | CO5: 35643208 | CP5: 1.2448275e+08 | CQ5: 4.1978852e+10 | CS5: 1.1879983e+10 | CU5: 5.4162727e+09 | CV5: 4.7209359e+10 | CW5: 6.4528434e+08 | CX5: 6.993737e+08 | CY5: 3.7798414e+09 | CZ5: 1.6652124e+08 | DA5: 4.9686037e+09 | DD5: 4.7918082e+08 | DE5: 2.1956846e+09 | DN5: 7.8129681e+09 | DO5: 824100000 | DP5: 2.0014689e+09 | DQ5: 6.455386e+10 | DR5: 1.5879537e+11 | DS5: 1.5742286e+11 | DU5: 5.0363874e+11 | DV5: 9.585982e+08 | DX5: 2.9974953e+11 | DZ5: 1.6138545e+10 | EC5: 4.2690819e+11 | EE5: 6.3405809e+09 | EF5: 1.2290643e+08 | EG5: 7.6313782e+10 | EJ5: 1.8279654e+08 | EK5: 8.060194e+10 | EM5: 1.3825157e+09 | ER5: 9122751.5 | ES5: 5.3275735e+09 | EV5: 1143600000 | EX5: 1.9494838e+08 | EY5: 1.2117766e+12 | EZ5: 1.6123464e+09 | FA5: 387750000 | FB5: 1.9660723e+10 | FF5: 2.9393445e+11 | FG5: 3.3768513e+11 | FH5: 4.4123856e+10 | FI5: 1.431057e+10 | FK5: 3.057892e+10 | FM5: 4.159907e+10 | FO5: 2.2603497e+09 | FP5: 4.6935664e+09 | FQ5: 1.9546348e+09 | FR5: 2.8491652e+08 | FS5: 2510000000 | FT5: 5.0383892e+10 | FU5: 7.7771245e+08 | FW5: 6.0723019e+10 | FY5: 8.681114e+08 | GA5: 6.6000001e+08 | GC5: 12541562 | GD5: 2.8139339e+09 | GF5: 8.8911888e+10 | GI5: 191861800 | GL5: 9.9481676e+10 | GP5: 1.4341564e+09 | GR5: 3.2541767e+11 | GS5: 41859163 | GT5: 1.6567281e+11 | GV5: 7.4150948e+08 | GZ5: 2.3796064e+09 | HC5: 7.3928691e+08 | HF5: 15221056000 | HH5: 3.1147034e+11 | HR5: 1.1114859e+08 | HT5: 1.8312015e+08 | HU5: 2.0015027e+09 | HV5: 6.47173e+11 | HY5: 5.317366e+08 | HZ5: 4.909303e+09 | IA5: 2.6529159e+08 | IB5: 1.4647057e+10 | IC5: 6.0669767e+09 | ID5: 5.740911e+08 | IF5: 6.0774963e+09 | IG5: 1.2158414e+12 | IJ5: 4.2330956e+09 | IK5: 6.521209e+08 | IL5: 3.2867732e+09 | IM5: 4.3998278e+09 | IO5: 2.6118404e+08 | IQ5: 1.1794111e+10 | IR5: 2094400000 | IT5: 3.6682224e+09 | IX5: 1.192909e+12 | JC5: 125000008 | JD5: 5.2969959e+10 | JF5: 1.5416667e+09 | JG5: 8.5742592e+08 | JH5: 8.2588527e+08 | JJ5: 3.4272158e+08 | JO5: 3.4197956e+10 | JQ5: 3.4208896e+10 | JT5: 103500000 | JW5: 1.7511477e+10 | JX5: 45927061 | JZ5: 12642027 | KA5: 1.1105659e+09 | KC5: 3.5763571e+08 | KD5: 6.4422867e+10 | KF5: 1.3223744e+08 | KG5: 3.3089128e+09 | KJ5: 9.3494272e+10 | KN5: 5.2969959e+10 | KO5: 3.4208896e+10 | KP5: 6.193192e+08 | KR5: 8.9222222e+09 | KU5: 4.4901258e+08 | KW5: 2.0838904e+11 | KX5: 1.7100045e+09 | KY5: 605100000000 | LA5: 14524879 | LB5: 10022000000 | LD5: 36900000 | LG5: 1.5268799e+12 | LK5: 8.49783e+09 | LL5: 6.9314286e+08 | LM5: 1117601600
A6: Andorra | B6: GDP (current US$) | M6: 78619206 | N6: 89409820 | O6: 1.1340823e+08 | P6: 1.508201e+08 | Q6: 1.865587e+08 | R6: 2.2012725e+08 | S6: 2.2728102e+08 | T6: 2.5402015e+08 | U6: 3.080089e+08 | V6: 4.1157833e+08 | W6: 4.4641611e+08 | X6: 3.8895873e+08 | Y6: 3.7589596e+08 | Z6: 3.2786183e+08 | AA6: 3.3007069e+08 | AB6: 3.4673796e+08 | AC6: 4.8200059e+08 | AD6: 6.113164e+08 | AE6: 7.2142594e+08 | AF6: 7.9544933e+08 | AG6: 1.0290485e+09 | AH6: 1.1069286e+09 | AI6: 1.2100137e+09 | AJ6: 1.0070258e+09 | AK6: 1.0175491e+09 | AL6: 1.178739e+09 | AM6: 1.2239454e+09 | AN6: 1.1805973e+09 | AO6: 1.2119324e+09 | AP6: 1.2398763e+09 | AQ6: 1.4016952e+09 | AR6: 1.4840179e+09 | AS6: 1.7174854e+09 | AT6: 2.3739278e+09 | AU6: 2.9167867e+09 | AV6: 3.2482154e+09 | AW6: 3.5366328e+09 | AX6: 4.010991e+09 | AY6: 4.0012011e+09 | AZ6: 3.6500834e+09 | BA6: 3.3465166e+09 | BB6: 3.4270225e+09 | BC6: 3.1461519e+09 | BD6: 3.2489246e+09 | BI6: 1963 | BK6: 7.5111119e+08 | BQ6: 1.8272124e+10 | BU6: 2.1527607e+10 | BV6: 8.3741753e+09 | BX6: 232749998 | BY6: 1.4260017e+10 | BZ6: 2.5392765e+08 | CA6: 3.9404075e+08 | CB6: 5.3194584e+09 | CE6: 2.377451e+08 | CH6: 33749405 | CI6: 96366652 | CJ6: 7.2114296e+08 | CK6: 2.3021477e+10 | CO6: 38091151 | CP6: 1.293791e+08 | CQ6: 4.4657169e+10 | CS6: 1.3063644e+10 | CU6: 5668187500 | CV6: 5.07068e+10 | CW6: 7.6104705e+08 | CX6: 7.2362437e+08 | CY6: 6.2131858e+09 | CZ6: 1.7223343e+08 | DA6: 4.8388415e+09 | DD6: 5.1190214e+08 | DE6: 2.3319594e+09 | DN6: 8.3166924e+09 | DO6: 940799900 | DP6: 2.7030149e+09 | DQ6: 6.990287e+10 | DR6: 1.679759e+11 | DS6: 1.7566665e+11 | DU6: 5.5536898e+11 | DV6: 1.0383896e+09 | DX6: 3.3627177e+11 | DZ6: 1.9074914e+10 | EC6: 4.702971e+11 | EE6: 6.8859203e+09 | EF6: 1.2945473e+08 | EG6: 8.5551114e+10 | EJ6: 1.5448024e+08 | EK6: 8.5443767e+10 | EM6: 1.5407976e+09 | ER6: 10840095 | ES6: 5.949478e+09 | EV6: 1262800000 | EX6: 1.7575687e+08 | EY6: 1.304603e+12 | EZ6: 1.9352983e+09 | FA6: 4.102e+08 | FB6: 2.3797855e+10 | FF6: 3.1339618e+11 | FG6: 3.6276101e+11 | FH6: 4.9688701e+10 | FI6: 1.5136261e+10 | FK6: 3.5608751e+10 | FM6: 4.7776001e+10 | FO6: 2.4308438e+09 | FP6: 4.928628e+09 | FQ6: 1.9784377e+09 | FR6: 3.4006165e+08 | FS6: 2.9923333e+09 | FT6: 5.7710743e+10 | FU6: 8.2669047e+08 | FW6: 6.9498132e+10 | FY6: 9.2658935e+08 | GA6: 7.2857144e+08 | GC6: 12833226 | GD6: 3.9882461e+09 | GF6: 8.9097573e+10 | GI6: 200229600 | GL6: 1.0009892e+11 | GP6: 1.2406723e+09 | GR6: 3.5015689e+11 | GS6: 47039059 | GT6: 1.7954238e+11 | GV6: 7.911406e+08 | GZ6: 2.6572473e+09 | HC6: 7.5934586e+08 | HF6: 16936336000 | HH6: 3.3243606e+11 | HR6: 1.1379736e+08 | HT6: 1.9082015e+08 | HU6: 2.5101267e+09 | HV6: 6.8335354e+11 | HY6: 5.8629488e+08 | HZ6: 5.165489e+09 | IA6: 2.9291624e+08 | IB6: 1.5891241e+10 | IC6: 6.5102395e+09 | ID6: 4.969479e+08 | IF6: 6.6389373e+09 | IG6: 1.3102837e+12 | IJ6: 4.5405291e+09 | IK6: 722784500 | IL6: 3.6009578e+09 | IM6: 4.8753099e+09 | IO6: 2.7596804e+08 | IQ6: 1.3764637e+10 | IR6: 2333600000 | IT6: 3.9057345e+09 | IX6: 1.2842222e+12 | JC6: 128000000 | JD6: 5.9564124e+10 | JF6: 1.5683333e+09 | JG6: 8.8638716e+08 | JH6: 9.17222e+08 | JJ6: 3.4854695e+08 | JO6: 3.921386e+10 | JQ6: 3.9225742e+10 | JT6: 110000000 | JW6: 1.8954132e+10 | JX6: 54128377 | JZ6: 13923029 | KA6: 1.2004474e+09 | KC6: 3.71767e+08 | KD6: 6.9761023e+10 | KF6: 1.4325578e+08 | KG6: 3.5404035e+09 | KJ6: 9.3815961e+10 | KN6: 5.9564124e+10 | KO6: 3.9225742e+10 | KP6: 6.7823537e+08 | KR6: 1.0355556e+10 | KU6: 5.161478e+08 | KW6: 2.1809855e+11 | KX6: 1.5396815e+09 | KY6: 638600000000 | LA6: 13708219 | LB6: 1.0823879e+10 | LD6: 41400000 | LG6: 1.643679e+12 | LK6: 9.4232115e+09 | LL6: 7.1871429e+08 | LM6: 1159511700
A7: Arab World | B7: GDP (current US$) | K7: 2.5760683e+10 | L7: 2.8434204e+10 | M7: 3.13855e+10 | N7: 3.642691e+10 | O7: 4.3316057e+10 | P7: 5.5018395e+10 | Q7: 1.051458e+11 | R7: 1.1633702e+11 | S7: 1.4484618e+11 | T7: 1.6730833e+11 | U7: 1.8355554e+11 | V7: 2.4864621e+11 | W7: 3.3817745e+11 | X7: 3.485928e+11 | Y7: 3.2432875e+11 | Z7: 3.0396254e+11 | AA7: 3.0794077e+11 | AB7: 3.0389362e+11 | AC7: 2.8902915e+11 | AD7: 3.1268168e+11 | AE7: 3.0750304e+11 | AF7: 3.2232514e+11 | AG7: 4.4687716e+11 | AH7: 4.3977918e+11 | AI7: 4.7116352e+11 | AJ7: 4.7651363e+11 | AK7: 4.8752691e+11 | AL7: 5.237599e+11 | AM7: 5.782313e+11 | AN7: 6.1327945e+11 | AO7: 5.9152559e+11 | AP7: 6.4388967e+11 | AQ7: 7.3502514e+11 | AR7: 7.2328282e+11 | AS7: 7.2905172e+11 | AT7: 8.2311054e+11 | AU7: 9.6386234e+11 | AV7: 1.1846615e+12 | AW7: 1.4041135e+12 | AX7: 1.6375732e+12 | AY7: 2.0777066e+12 | AZ7: 1.7954723e+12 | BA7: 2.1092242e+12 | BB7: 2.5019428e+12 | BC7: 2.7405362e+12 | BD7: 2.8382944e+12 | BE7: 2.9044046e+12 | BF7: 2.5611296e+12 | BG7: 2.5009317e+12 | BI7: 1964 | BK7: 8.0000004e+08 | BQ7: 2.5605249e+10 | BU7: 2.3787658e+10 | BV7: 9.1699839e+09 | BX7: 260750008 | BY7: 1.5960107e+10 | BZ7: 2.6981899e+08 | CA7: 4.1032179e+08 | CB7: 5.3860546e+09 | CE7: 2.6666667e+08 | CH7: 36193826 | CI7: 1.0756665e+08 | CJ7: 8.1254307e+08 | CK7: 2.1211892e+10 | CO7: 41613969 | CP7: 1.4202507e+08 | CQ7: 4.8882939e+10 | CS7: 1.4480557e+10 | CU7: 5.9823478e+09 | CV7: 5.9708343e+10 | CW7: 9.2106327e+08 | CX7: 7.8238453e+08 | CY7: 2.8815453e+09 | CZ7: 1.8569372e+08 | DA7: 5.9921695e+09 | DD7: 5.4257837e+08 | DE7: 2.5192612e+09 | DN7: 9.5066788e+09 | DO7: 1.0255999e+09 | DP7: 2.9093518e+09 | DQ7: 8.104526e+10 | DR7: 1.9242616e+11 | DS7: 2.0182876e+11 | DU7: 6.1502849e+11 | DV7: 1.1561509e+09 | DX7: 3.7401019e+11 | DZ7: 2.1343845e+10 | EC7: 5.2119768e+11 | EE7: 7.7666551e+09 | EF7: 1.4003274e+08 | EG7: 9.4906593e+10 | EJ7: 2.1567986e+08 | EK7: 9.3387599e+10 | EM7: 1.7312962e+09 | ER7: 12712471 | ES7: 6.6802983e+09 | EV7: 1.2990999e+09 | EX7: 1.9477338e+08 | EY7: 1.424584e+12 | EZ7: 2.2064665e+09 | FA7: 457000000 | FB7: 2.1181173e+10 | FF7: 3.5491928e+11 | FG7: 4.0297759e+11 | FH7: 4.8638831e+10 | FI7: 1.6547084e+10 | FK7: 3.2782637e+10 | FM7: 5.5726873e+10 | FO7: 2.7666089e+09 | FP7: 5.3798456e+09 | FQ7: 2.3405211e+09 | FR7: 4.3426794e+08 | FS7: 3.4053333e+09 | FT7: 6.3175417e+10 | FU7: 8.979314e+08 | FW7: 8.1749006e+10 | FY7: 9.9875933e+08 | GA7: 7.8285713e+08 | GC7: 13416555 | GD7: 3.4585185e+09 | GF7: 9.9074812e+10 | GI7: 218929100 | GL7: 1.1118757e+11 | GP7: 1.3097479e+09 | GR7: 3.8909676e+11 | GS7: 51938961 | GT7: 1.9810208e+11 | GV7: 9.0315875e+08 | GZ7: 2.7983398e+09 | HC7: 8.0248218e+08 | HF7: 20070136000 | HH7: 3.7525829e+11 | HR7: 1.5189717e+08 | HT7: 1.9474016e+08 | HU7: 2.6744414e+09 | HV7: 7.3479051e+11 | HY7: 5.828164e+08 | HZ7: 5.5528225e+09 | IA7: 3.4197376e+08 | IB7: 1.8699381e+10 | IC7: 7.1592027e+09 | ID7: 4.9609878e+08 | IF7: 7.2741444e+09 | IG7: 1.4318871e+12 | IJ7: 5.1304077e+09 | IK7: 776137500 | IL7: 4.3569139e+09 | IM7: 5.2714047e+09 | IO7: 3.0531204e+08 | IQ7: 1.2795572e+10 | IR7: 2570500000 | IT7: 4.2356082e+09 | IX7: 1.4016738e+12 | JC7: 129999994 | JD7: 6.8207241e+10 | JF7: 1.6113333e+09 | JG7: 9.3914585e+08 | JH7: 8.9373448e+08 | JJ7: 3.7184811e+08 | JO7: 3.8257387e+10 | JQ7: 3.8271071e+10 | JT7: 120850000 | JW7: 2.1137243e+10 | JX7: 64979280 | JZ7: 15393032 | KA7: 1.3394943e+09 | KC7: 3.9224752e+08 | KD7: 8.0880803e+10 | KF7: 1.6610407e+08 | KG7: 3.8891299e+09 | KJ7: 1.0421999e+11 | KN7: 6.8207241e+10 | KO7: 3.8271071e+10 | KP7: 7.1189337e+08 | KR7: 1.1177778e+10 | KU7: 5.890566e+08 | KW7: 2.4611984e+11 | KX7: 1.9757017e+09 | KY7: 685800000000 | LA7: 14758210 | LB7: 9111000000 | LD7: 53800000 | LG7: 1.8007406e+12 | LK7: 1.0373793e+10 | LL7: 8.3942857e+08 | LM7: 1217138000
A8: United Arab Emirates | B8: GDP (current US$) | R8: 1.4720673e+10 | S8: 1.9213023e+10 | T8: 2.4871775e+10 | U8: 2.3775832e+10 | V8: 3.1225463e+10 | W8: 4.3598748e+10 | X8: 4.9333424e+10 | Y8: 4.6622719e+10 | Z8: 4.2803323e+10 | AA8: 4.1807954e+10 | AB8: 4.060365e+10 | AC8: 3.3943612e+10 | AD8: 3.6384909e+10 | AE8: 3.6275674e+10 | AF8: 4.1464996e+10 | AG8: 5.0701444e+10 | AH8: 5.1552166e+10 | AI8: 5.4239172e+10 | AJ8: 5.562517e+10 | AK8: 5.9305094e+10 | AL8: 6.5743667e+10 | AM8: 7.3571234e+10 | AN8: 7.8839008e+10 | AO8: 7.5674336e+10 | AP8: 8.4445473e+10 | AQ8: 1.0433737e+11 | AR8: 1.0331164e+11 | AS8: 1.098162e+11 | AT8: 1.2434636e+11 | AU8: 1.4782437e+11 | AV8: 1.8061702e+11 | AW8: 2.2211654e+11 | AX8: 2.5791613e+11 | AY8: 3.1547462e+11 | AZ8: 2.5354736e+11 | BA8: 2.8988043e+11 | BB8: 3.5090839e+11 | BC8: 3.7481797e+11 | BD8: 3.9042729e+11 | BE8: 4.0319768e+11 | BF8: 3.579492e+11 | BG8: 3.4874327e+11 | BI8: 1965 | BK8: 1.0066666e+09 | BQ8: 2.8344706e+10 | BU8: 2.5962594e+10 | BV8: 9.9940706e+09 | BX8: 1.5899496e+08 | BY8: 1.7371458e+10 | BZ8: 2.8990872e+08 | CA8: 4.2291685e+08 | CB8: 5.9066366e+09 | CE8: 3.0039216e+08 | CH8: 40069930 | CI8: 1.1433905e+08 | CJ8: 9.0887454e+08 | CK8: 2.1790035e+10 | CM8: 1.1404025e+08 | CO8: 45790870 | CP8: 1.5057482e+08 | CQ8: 5.390957e+10 | CS8: 1.5346742e+10 | CU8: 6026593750 | CV8: 7.0436266e+10 | CW8: 9.1977136e+08 | CX8: 8.1413986e+08 | CY8: 4.0439017e+09 | CZ8: 1.9831806e+08 | DA8: 5.7902476e+09 | DD8: 5.9298116e+08 | DE8: 2.7127154e+09 | DN8: 1.0678897e+10 | DO8: 8.881e+08 | DP8: 3.1362589e+09 | DQ8: 9.4581389e+10 | DR8: 2.0999396e+11 | DS8: 2.2479531e+11 | DU8: 6.6925734e+11 | DV8: 2.3870483e+09 | DW8: 5.111621e+09 | DX8: 4.0811903e+11 | DZ8: 2.4756959e+10 | EC8: 5.6759052e+11 | EE8: 8.58934e+09 | EF8: 1.4708475e+08 | EG8: 1.0216057e+11 | EJ8: 2.2647429e+08 | EK8: 1.0059578e+11 | EM8: 2.053463e+09 | ER8: 64748333 | ES8: 7.6005791e+09 | EV8: 1331399900 | EX8: 2.1323529e+08 | EY8: 1.5466899e+12 | EZ8: 2.4350785e+09 | FA8: 508650000 | FB8: 2.4791434e+10 | FF8: 3.8987803e+11 | FG8: 4.4442856e+11 | FH8: 5.5127128e+10 | FI8: 1.8008428e+10 | FK8: 3.8049648e+10 | FM8: 5.8760425e+10 | FO8: 2.9457041e+09 | FP8: 6.1973199e+09 | FR8: 5.2369495e+08 | FS8: 3.6633333e+09 | FT8: 6.7978154e+10 | FU8: 9.7214056e+08 | FV8: 5.9983198e+08 | FW8: 9.0950278e+10 | FY8: 9.9791932e+08 | GA8: 8.6857143e+08 | GC8: 13593932 | GD8: 3.1203078e+09 | GE8: 2.0974517e+09 | GF8: 1.0730459e+11 | GI8: 229260800 | GL8: 1.1977086e+11 | GP8: 1.6983193e+09 | GQ8: 1.3746188e+11 | GR8: 4.3033157e+11 | GS8: 54878902 | GT8: 2.2098386e+11 | GV8: 9.2160074e+08 | GZ8: 2.9483253e+09 | HC8: 8.3356347e+08 | HF8: 21829712000 | HH8: 4.1366418e+11 | HR8: 1.7276721e+08 | HT8: 2.2946018e+08 | HU8: 2.956357e+09 | HV8: 7.9772391e+11 | HX8: 1.5959449e+08 | HY8: 6.7338351e+08 | HZ8: 5.8744225e+09 | IA8: 5.6654287e+08 | IB8: 2.1000587e+10 | IC8: 8.0586811e+09 | ID8: 7.3526708e+08 | IF8: 5.6544636e+09 | IG8: 1.5545462e+12 | IH8: 63287595 | IJ8: 5.8847121e+09 | IK8: 852485300 | IL8: 5.1668611e+09 | IM8: 5.784399e+09 | IO8: 3.4415948e+08 | IQ8: 1.4432974e+10 | IR8: 2881500000 | IT8: 4.6874641e+09 | IU8: 4.0012969e+08 | IX8: 1.5225362e+12 | IY8: 1.7653459e+08 | JC8: 148799980 | JD8: 7.3302134e+10 | JF8: 1.6793333e+09 | JG8: 9.5583489e+08 | JH8: 9.7419313e+08 | JJ8: 3.5937986e+08 | JK8: 877720000 | JO8: 4.2627501e+10 | JQ8: 4.2640958e+10 | JT8: 138650000 | JW8: 2.3260321e+10 | JX8: 70278594 | JZ8: 15603033 | KA8: 1.4720366e+09 | KC8: 4.169263e+08 | KD8: 9.4389465e+10 | KF8: 1.8730034e+08 | KG8: 4.3889376e+09 | KJ8: 1.1212916e+11 | KN8: 7.3302134e+10 | KO8: 4.2640958e+10 | KP8: 7.3656886e+08 | KQ8: 9.9104762e+08 | KR8: 1.1944444e+10 | KU8: 8.8487395e+08 | KW8: 2.7466286e+11 | KX8: 1.8907693e+09 | KY8: 743700000000 | LA8: 15108207 | LB8: 9.4962444e+09 | LD8: 66500000 | LG8: 1.9619445e+12 | LK8: 1.1334173e+10 | LL8: 1.0828571e+09 | LM8: 1311435800
A9: Argentina | B9: GDP (current US$) | E9: 2.4450605e+10 | F9: 1.8272124e+10 | G9: 2.5605249e+10 | H9: 2.8344706e+10 | I9: 2.8630475e+10 | J9: 2.4256668e+10 | K9: 2.6436857e+10 | L9: 3.1256285e+10 | M9: 3.158421e+10 | N9: 3.3293199e+10 | O9: 3.4733001e+10 | P9: 5.2544e+10 | Q9: 7.2436777e+10 | R9: 5.2438648e+10 | S9: 5.11695e+10 | T9: 5.6781e+10 | U9: 5.808287e+10 | V9: 6.9252329e+10 | W9: 7.6961924e+10 | X9: 7.8676842e+10 | Y9: 8.4307487e+10 | Z9: 1.0397911e+11 | AA9: 7.9092002e+10 | AB9: 8.8416669e+10 | AC9: 1.1093444e+11 | AD9: 1.1110619e+11 | AE9: 1.2620682e+11 | AF9: 7.6636898e+10 | AG9: 1.4135237e+11 | AH9: 1.8971998e+11 | AI9: 2.2878862e+11 | AJ9: 2.3674172e+11 | AK9: 257440000000 | AL9: 258031750000 | AM9: 272149750000 | AN9: 292859000000 | AO9: 298948250000 | AP9: 283523000000 | AQ9: 284203750000 | AR9: 268696750000 | AS9: 9.7724004e+10 | AT9: 1.2758697e+11 | AU9: 1.6465793e+11 | AV9: 1.987371e+11 | AW9: 2.3255726e+11 | AX9: 2.8753051e+11 | AY9: 3.6155804e+11 | AZ9: 3.3297648e+11 | BA9: 4.2362742e+11 | BB9: 5.3016328e+11 | BC9: 5.4598238e+11 | BD9: 5.5202514e+11 | BE9: 5.2631967e+11 | BF9: 5.8471149e+11 | BG9: 5.4586616e+11 | BI9: 1966 | BK9: 1.4e+09 | BQ9: 2.8630475e+10 | BU9: 2.728861e+10 | BV9: 1.0887682e+10 | BX9: 1.6544457e+08 | BY9: 1.8651883e+10 | BZ9: 3.0292528e+08 | CA9: 4.3388983e+08 | CB9: 6.4396876e+09 | CE9: 340000000 | CH9: 44405594 | CI9: 1.3417337e+08 | CJ9: 9.9404455e+08 | CK9: 2.7062717e+10 | CM9: 1.327584e+08 | CO9: 51464435 | CP9: 1.5793004e+08 | CQ9: 6.0358632e+10 | CS9: 1.6480059e+10 | CU9: 7.072641e+09 | CV9: 7.6720286e+10 | CW9: 1.024103e+09 | CX9: 8.5326877e+08 | CY9: 4.5326601e+09 | CZ9: 2.2061358e+08 | DA9: 5.452763e+09 | DD9: 6.4730563e+08 | DE9: 2.9421414e+09 | DN9: 1.1721248e+10 | DO9: 983900000 | DP9: 3.0398346e+09 | DQ9: 1.0354062e+11 | DR9: 2.0731669e+11 | DS9: 2.513169e+11 | DU9: 7.2708071e+11 | DV9: 2.4293095e+09 | DW9: 5.3395206e+09 | DX9: 4.4504024e+11 | DZ9: 2.8721062e+10 | EC9: 6.1528391e+11 | EE9: 9.2085245e+09 | EF9: 1.5060393e+08 | EG9: 1.1059747e+11 | EJ9: 2.4584978e+08 | EK9: 1.0709072e+11 | EM9: 2.1263007e+09 | EP9: 44212354 | ER9: 69110000 | ES9: 8.4556111e+09 | EV9: 1390700000 | EX9: 2.2870588e+08 | EY9: 1.696346e+12 | EZ9: 2.489845e+09 | FA9: 549950000 | FB9: 2.7037003e+10 | FF9: 4.0201733e+11 | FG9: 4.6125874e+11 | FH9: 5.980143e+10 | FI9: 1.9548468e+10 | FK9: 4.1260253e+10 | FM9: 4.5253641e+10 | FO9: 3.1040344e+09 | FP9: 6.7899387e+09 | FR9: 6.2889331e+08 | FS9: 3.98e+09 | FT9: 7.365487e+10 | FU9: 1.0967381e+09 | FV9: 6.5807897e+08 | FW9: 1.0562807e+11 | FY9: 1.1645197e+09 | GA9: 9.1428571e+08 | GC9: 14469078 | GD9: 3.9281713e+09 | GE9: 2.391487e+09 | GF9: 1.1761685e+11 | GI9: 244459500 | GL9: 1.3144105e+11 | GP9: 1.7514706e+09 | GQ9: 1.2465307e+11 | GR9: 4.4581675e+11 | GS9: 56698866 | GT9: 2.4537087e+11 | GV9: 9.6844015e+08 | GZ9: 2.8763956e+09 | HC9: 9.0026458e+08 | HF9: 24337232000 | HH9: 4.2745674e+11 | HR9: 1.8034065e+08 | HT9: 2.6040021e+08 | HU9: 3.1435385e+09 | HV9: 8.7549281e+11 | HX9: 1.6420654e+08 | HY9: 7.0229608e+08 | HZ9: 6.3667927e+09 | IA9: 606671444 | IB9: 2.2867203e+10 | IC9: 8.6964602e+09 | ID9: 9.0681194e+08 | IF9: 5.8637332e+09 | IG9: 1.706872e+12 | IH9: 67768132 | IJ9: 6.4666108e+09 | IK9: 928833000 | IL9: 6.1136077e+09 | IM9: 6.3714593e+09 | IO9: 3.9097323e+08 | IQ9: 1.5869568e+10 | IR9: 3170500000 | IT9: 5.1353878e+09 | IU9: 4.2170044e+08 | IX9: 1.6696156e+12 | IY9: 2.1565946e+08 | JC9: 1.245257e+08 | JD9: 6.1638107e+10 | JF9: 1.723e+09 | JG9: 9.8494299e+08 | JH9: 1.0959101e+09 | JJ9: 3.7547985e+08 | JK9: 929520000 | JO9: 4.6017949e+10 | JQ9: 4.6032013e+10 | JT9: 171100000 | JW9: 2.5302033e+10 | JX9: 76858463 | JZ9: 16443035 | KA9: 1.3422876e+09 | KC9: 4.3279492e+08 | KD9: 1.0333052e+11 | KF9: 2.1613626e+08 | KG9: 5.2792308e+09 | KJ9: 1.2302498e+11 | KN9: 6.1638107e+10 | KO9: 4.6032013e+10 | KP9: 7.2373564e+08 | KQ9: 1.0409524e+09 | KR9: 1.4122222e+10 | KU9: 9.2577031e+08 | KW9: 3.0179001e+11 | KX9: 1.809184e+09 | KY9: 815000000000 | LA9: 16099866 | LB9: 9984400000 | LD9: 84100000 | LG9: 2.1286194e+12 | LK9: 1.2354753e+10 | LL9: 1.2642857e+09 | LM9: 1.2817495e+09
A10: Armenia | B10: GDP (current US$) | AG10: 2.2568389e+09 | AH10: 2.0685265e+09 | AI10: 1.2725775e+09 | AJ10: 1.2013132e+09 | AK10: 1.3151587e+09 | AL10: 1.4683174e+09 | AM10: 1.5969689e+09 | AN10: 1.6394924e+09 | AO10: 1.8937264e+09 | AP10: 1.8454822e+09 | AQ10: 1.9115637e+09 | AR10: 2.1184679e+09 | AS10: 2.376335e+09 | AT10: 2.807061e+09 | AU10: 3.5766152e+09 | AV10: 4.9004695e+09 | AW10: 6.3844516e+09 | AX10: 9.2063017e+09 | AY10: 1.1662041e+10 | AZ10: 8.6479367e+09 | BA10: 9.2602849e+09 | BB10: 1.0142111e+10 | BC10: 1.061932e+10 | BD10: 1.1121466e+10 | BE10: 1.1609513e+10 | BF10: 1.0529182e+10 | BG10: 1.0547331e+10 | BI10: 1967 | BK10: 1.6733334e+09 | BQ10: 2.4256668e+10 | BU10: 3.04211e+10 | BV10: 1.1579432e+10 | BX10: 1.7829714e+08 | BY10: 1.9992041e+10 | BZ10: 3.06222e+08 | CA10: 4.5075399e+08 | CB10: 7.2535754e+09 | CE10: 3.9019608e+08 | CH10: 47379310 | CI10: 1.5510298e+08 | CJ10: 1.0840598e+09 | CK10: 3.0591834e+10 | CM10: 1.3903045e+08 | CO10: 58646444 | CP10: 1.6382054e+08 | CQ10: 6.4768831e+10 | CS10: 1.7740013e+10 | CU10: 7.0131961e+09 | CV10: 7.2881631e+10 | CW10: 1.0829229e+09 | CX10: 9.3407905e+08 | CY10: 3.3840634e+09 | CZ10: 2.3739743e+08 | DA10: 5.727195e+09 | DD10: 6.9945662e+08 | DE10: 3.1582113e+09 | DN10: 1.278848e+10 | DO10: 1034800000 | DP10: 3.3708431e+09 | DQ10: 1.0032759e+11 | DR10: 2.1758708e+11 | DS10: 2.7231189e+11 | DU10: 7.8227353e+11 | DV10: 2.5535961e+09 | DW10: 5.5791685e+09 | DX10: 4.8344135e+11 | DZ10: 3.1647119e+10 | EC10: 6.6116698e+11 | EE10: 9.368954e+09 | EF10: 1.6262589e+08 | EG10: 1.1946614e+11 | EJ10: 2.7154368e+08 | EK10: 1.1118538e+11 | EM10: 1.7471876e+09 | EP10: 46695363 | ER10: 72317447 | ES10: 9.1367113e+09 | EV10: 1453500000 | EX10: 2.5017647e+08 | EY10: 1.8193274e+12 | EZ10: 2.692475e+09 | FA10: 598100000 | FB10: 2.6469517e+10 | FF10: 4.1301434e+11 | FG10: 4.7286585e+11 | FH10: 6.0439331e+10 | FI10: 1.9670828e+10 | FJ10: 5.6677566e+09 | FK10: 4.1803467e+10 | FM10: 4.9466169e+10 | FO10: 3.3436368e+09 | FP10: 7.5553837e+09 | FR10: 6.2122596e+08 | FS10: 4.03e+09 | FT10: 8.113312e+10 | FU10: 1.1480254e+09 | FV10: 6.3175581e+08 | FW10: 1.2378188e+11 | FY10: 1.2325595e+09 | GA10: 9.6285713e+08 | GC10: 16742338 | GD10: 4.8545764e+09 | GE10: 2.441893e+09 | GF10: 1.2060901e+11 | GI10: 2.610243e+08 | GL10: 1.3465695e+11 | GP10: 1.859465e+09 | GQ10: 1.3290489e+11 | GR10: 4.5764915e+11 | GS10: 59260815 | GT10: 2.4771554e+11 | GV10: 9.7472176e+08 | GZ10: 3.0463393e+09 | HC10: 9.5643693e+08 | HF10: 26556376000 | HH10: 4.4015032e+11 | HJ10: 2.7549452e+08 | HR10: 1.9122178e+08 | HT10: 2.6981278e+08 | HU10: 3.1889455e+09 | HV10: 9.2662393e+11 | HX10: 1.8003677e+08 | HY10: 6.6558687e+08 | HZ10: 5.2031359e+09 | IA10: 6.5717144e+08 | IB10: 2.5087562e+10 | IC10: 9.5144967e+09 | ID10: 8.4197403e+08 | IF10: 5.9614181e+09 | IG10: 1.8316008e+12 | IH10: 1.0715272e+08 | IJ10: 7.4038219e+09 | IK10: 1.0343764e+09 | IL10: 6.2042538e+09 | IM10: 6.8091342e+09 | IO10: 4.4170691e+08 | IQ10: 1.4966395e+10 | IR10: 3532700000 | IT10: 5.7402412e+09 | IU10: 4.5152412e+08 | IX10: 1.7916072e+12 | IY10: 2.2098437e+08 | JC10: 159560018 | JD10: 6.7859668e+10 | JF10: 1.8656667e+09 | JG10: 9.8460537e+08 | JH10: 1.2374232e+09 | JI10: 25203524 | JJ10: 3.487953e+08 | JK10: 976200000 | JO10: 4.547982e+10 | JQ10: 4.549416e+10 | JT10: 198450000 | JW10: 2.7463409e+10 | JX10: 74758505 | JZ10: 16632033 | KA10: 1.5802298e+09 | KC10: 4.4982632e+08 | KD10: 1.0012401e+11 | KF10: 2.3170648e+08 | KG10: 5.6384614e+09 | KJ10: 1.2567811e+11 | KN10: 6.7859668e+10 | KO10: 4.549416e+10 | KP10: 7.6198147e+08 | KQ10: 1.0857143e+09 | KR10: 1.5666667e+10 | KU10: 9.6764706e+08 | KW10: 3.0605069e+11 | KX10: 1.5977211e+09 | KY10: 861700000000 | LA10: 15835178 | LB10: 1.0356422e+10 | LD10: 115400000 | LG10: 2.2647937e+12 | LK10: 1.3777124e+10 | LL10: 1368000000 | LM10: 1397002000
A11: American Samoa | B11: GDP (current US$) | AS11: 514000000 | AT11: 527000000 | AU11: 512000000 | AV11: 503000000 | AW11: 496000000 | AX11: 520000000 | AY11: 563000000 | AZ11: 678000000 | BA11: 576000000 | BB11: 574000000 | BC11: 644000000 | BD11: 639000000 | BE11: 638000000 | BF11: 641000000 | BI11: 1968 | BK11: 1.3733334e+09 | BO11: 2.5760683e+10 | BQ11: 2.6436857e+10 | BU11: 3.2687871e+10 | BV11: 1.2440625e+10 | BX11: 183200000 | BY11: 2.1376353e+10 | BZ11: 3.263231e+08 | CA11: 4.6044286e+08 | CB11: 7.4836855e+09 | CE11: 4.4490196e+08 | CH11: 44910180 | CI11: 150000000 | CJ11: 9.0887454e+08 | CK11: 3.3875882e+10 | CM11: 1.6081929e+08 | CO11: 66248257 | CP11: 1.9176744e+08 | CQ11: 7.0759032e+10 | CS11: 1.894273e+10 | CU11: 7.167087e+09 | CV11: 7.0846535e+10 | CW11: 1.2812812e+09 | CX11: 1.0530772e+09 | CY11: 3.9097805e+09 | CZ11: 2.5124746e+08 | DA11: 5.9184554e+09 | DD11: 7.7384149e+08 | DE11: 3.1404699e+09 | DN11: 13196541952 | DO11: 1.0791e+09 | DP11: 3.8521158e+09 | DQ11: 1.0126363e+11 | DR11: 2.3570572e+11 | DS11: 3.0003754e+11 | DU11: 8.1586854e+11 | DV11: 2.5821808e+09 | DW11: 6.1091121e+09 | DX11: 5.1826351e+11 | DZ11: 3.1475548e+10 | EC11: 6.8721374e+11 | EE11: 8.8230339e+09 | EF11: 1.6695294e+08 | EG11: 1.2984711e+11 | EJ11: 2.9446856e+08 | EK11: 1.0470274e+11 | EM11: 1.6669095e+09 | EP11: 41160659 | ER11: 67514286 | ES11: 9.9151405e+09 | EV11: 1610500000 | EX11: 229750000 | EY11: 1.971265e+12 | EZ11: 2.7169644e+09 | FA11: 646800000 | FB11: 2.7687706e+10 | FF11: 4.3657185e+11 | FG11: 4.9966016e+11 | FH11: 6.3710109e+10 | FI11: 2.0910847e+10 | FJ11: 7.0764653e+09 | FK11: 4.3857843e+10 | FM11: 5.2377324e+10 | FO11: 3.2785845e+09 | FP11: 8.623173e+09 | FQ11: 2.8969476e+09 | FR11: 4.7439947e+08 | FS11: 4619000000 | FT11: 8.7942232e+10 | FU11: 1.0838834e+09 | FV11: 5.6118734e+08 | FW11: 1.4660107e+11 | FY11: 1.3532955e+09 | GA11: 1.0657142e+09 | GC11: 14600000 | GD11: 6.1172601e+09 | GE11: 2.6631196e+09 | GF11: 1.3025625e+11 | GI11: 276820700 | GL11: 1.4500372e+11 | GP11: 1.8013445e+09 | GQ11: 1.4241819e+11 | GR11: 4.8407793e+11 | GS11: 61444771 | GT11: 2.5306386e+11 | GV11: 1.0664471e+09 | GZ11: 3.2714159e+09 | HC11: 1.0316696e+09 | HE11: 3.2544887e+10 | HF11: 2.9363632e+10 | HH11: 4.6592044e+11 | HJ11: 3.4377196e+08 | HR11: 2.1069518e+08 | HT11: 2.451601e+08 | HU11: 3.3303933e+09 | HV11: 1.013409e+12 | HX11: 2.1550716e+08 | HY11: 6.4121423e+08 | HZ11: 5.200896e+09 | IA11: 6.9589998e+08 | IB11: 2.7817606e+10 | IC11: 1.0159934e+10 | ID11: 7.7222864e+08 | IF11: 5.1805976e+09 | IG11: 1.9854848e+12 | IH11: 1.8886489e+08 | IJ11: 8.0900886e+09 | IK11: 1.1127911e+09 | IL11: 5.7360838e+09 | IM11: 7.5916031e+09 | IO11: 4.8516082e+08 | IQ11: 1.5779012e+10 | IR11: 3941700000 | IT11: 6.3542626e+09 | IU11: 4.7701251e+08 | IX11: 1.9415881e+12 | IY11: 2.5959008e+08 | JC11: 172200018 | JD11: 7.1227636e+10 | JE11: 4.1877777e+09 | JF11: 1.9473333e+09 | JG11: 1.0342936e+09 | JH11: 1.4250294e+09 | JI11: 28084253 | JJ11: 3.2986009e+08 | JK11: 1009760100 | JO11: 4.8646317e+10 | JQ11: 4.8659688e+10 | JT11: 220600000 | JW11: 2.9143383e+10 | JX11: 79798404 | JZ11: 16074027 | KA11: 1.7537464e+09 | KC11: 4.539801e+08 | KD11: 1.0105815e+11 | KF11: 2.4195691e+08 | KG11: 6.0810094e+09 | KJ11: 1.3512248e+11 | KN11: 7.1227636e+10 | KO11: 4.8659688e+10 | KP11: 758899950 | KQ11: 1.2146667e+09 | KR11: 17500000000 | KU11: 1.0378151e+09 | KW11: 3.2208297e+11 | KX11: 1.5936753e+09 | KY11: 942500000000 | LA11: 15350000 | LB11: 1.1343444e+10 | LD11: 173800000 | LG11: 2.4433459e+12 | LK11: 1.4894302e+10 | LL11: 1.6058571e+09 | LM11: 1.4795999e+09
A12: Antigua and Barbuda | B12: GDP (current US$) | T12: 77496741 | U12: 87879333 | V12: 1.0907996e+08 | W12: 1.3143104e+08 | X12: 1.4784174e+08 | Y12: 1.643693e+08 | Z12: 1.8214411e+08 | AA12: 2.0837285e+08 | AB12: 2.4092393e+08 | AC12: 2.9044015e+08 | AD12: 3.3717485e+08 | AE12: 3.9863774e+08 | AF12: 4.3879478e+08 | AG12: 4.5946907e+08 | AH12: 4.8170633e+08 | AI12: 4.9928115e+08 | AJ12: 5.3517278e+08 | AK12: 5.8942959e+08 | AL12: 5.7728074e+08 | AM12: 6.3373063e+08 | AN12: 6.8061711e+08 | AO12: 7.2786059e+08 | AP12: 7.6619893e+08 | AQ12: 8.2540552e+08 | AR12: 7.9597652e+08 | AS12: 8.0975448e+08 | AT12: 8.5021859e+08 | AU12: 9.1371037e+08 | AV12: 1.0149797e+09 | AW12: 1.1490255e+09 | AX12: 1.3023889e+09 | AY12: 1.3597336e+09 | AZ12: 1.2177197e+09 | BA12: 1.1479422e+09 | BB12: 1.1418654e+09 | BC12: 1.2160458e+09 | BD12: 1.1958851e+09 | BE12: 1.2743303e+09 | BF12: 1.3556459e+09 | BG12: 1.4491602e+09 | BI12: 1969 | BK12: 1.4088889e+09 | BO12: 2.8434204e+10 | BQ12: 3.1256285e+10 | BU12: 3.66592e+10 | BV12: 1.3582799e+10 | BX12: 1.9020571e+08 | BY12: 2.3710736e+10 | BZ12: 3.3074821e+08 | CA12: 4.7829878e+08 | CB12: 8.4710061e+09 | CE12: 5.2813725e+08 | CH12: 47305389 | CI12: 164900000 | CJ12: 9.646157e+08 | CK12: 3.7458898e+10 | CM12: 1.6121129e+08 | CO12: 77356914 | CP12: 1.8803919e+08 | CQ12: 7.788751e+10 | CS12: 2.0524887e+10 | CU12: 8.377093e+09 | CV12: 7.9705906e+10 | CW12: 1.3613602e+09 | CX12: 1.1524185e+09 | CY12: 5.032435e+09 | CZ12: 2.6504004e+08 | DA12: 6.4054279e+09 | DD12: 8.536302e+08 | DE12: 3.4176687e+09 | DN12: 1.5009385e+10 | DO12: 1230500000 | DP12: 4.2572188e+09 | DQ12: 1.1370838e+11 | DR12: 2.6341717e+11 | DS12: 3.4562052e+11 | DU12: 8.9574108e+11 | DV12: 3.1121668e+09 | DW12: 6.8617433e+09 | DX12: 5.7253227e+11 | DZ12: 3.6038712e+10 | EC12: 7.5479643e+11 | EE12: 1.0070767e+10 | EF12: 1.8218207e+08 | EG12: 1.407255e+11 | EJ12: 3.181247e+08 | EK12: 1.1267687e+11 | EM12: 1.9620506e+09 | EP12: 45168723 | ER12: 67225714 | ES12: 1.1266092e+10 | EV12: 1.7153999e+09 | EX12: 2.493e+08 | EY12: 2.1637989e+12 | EZ12: 3.1897401e+09 | FA12: 668000050 | FB12: 3.0902141e+10 | FF12: 4.8804062e+11 | FG12: 5.5928703e+11 | FH12: 7.1945084e+10 | FI12: 2.3861812e+10 | FJ12: 8.3374233e+09 | FK12: 4.9232892e+10 | FM12: 5.766833e+10 | FO12: 3.7870773e+09 | FP12: 9.7430896e+09 | FQ12: 3.008121e+09 | FR12: 4.1470931e+08 | FS12: 5.3293333e+09 | FT12: 9.7085083e+10 | FU12: 1.1912877e+09 | FV12: 6.9896388e+08 | FW12: 1.722042e+11 | FY12: 1.4583794e+09 | GA12: 9.7887323e+08 | GC12: 15850000 | GD12: 7.6758051e+09 | GE12: 2.7695323e+09 | GF12: 1.4534642e+11 | GI12: 306961800 | GL12: 1.6247834e+11 | GP12: 1.9655462e+09 | GQ12: 1.5895171e+11 | GR12: 5.4120779e+11 | GS12: 65966681 | GT12: 2.8283418e+11 | GV12: 1.234879e+09 | GZ12: 3.6516155e+09 | HC12: 1.0563911e+09 | HE12: 3.6324979e+10 | HF12: 32515752000 | HH12: 5.2086752e+11 | HJ12: 3.3991383e+08 | HR12: 1.9964344e+08 | HT12: 2.6580011e+08 | HU12: 3.664576e+09 | HV12: 1.0979524e+12 | HX12: 2.6310883e+08 | HY12: 6.2586798e+08 | HZ12: 6.6341873e+09 | IA12: 7.4797145e+08 | IB12: 3.1503869e+10 | IC12: 1.1063065e+10 | ID12: 7.8864197e+08 | IF12: 5.7615888e+09 | IG12: 2.1792268e+12 | IH12: 2.399808e+08 | IJ12: 8.6329273e+09 | IK12: 1.2213057e+09 | IL12: 6.4209098e+09 | IM12: 8.4082297e+09 | IO12: 5.5123732e+08 | IQ12: 1.794099e+10 | IR12: 4460700000 | IT12: 6.9690258e+09 | IU12: 5.1272895e+08 | IX12: 2.1298103e+12 | IY12: 2.4294378e+08 | JC12: 188700037 | JD12: 7.8199357e+10 | JE12: 4.4857776e+09 | JF12: 2.1443333e+09 | JG12: 9.8362102e+08 | JH12: 1.6590553e+09 | JI12: 28606411 | JJ12: 4.0869016e+08 | JK12: 1049400000 | JO12: 5.5775719e+10 | JQ12: 5.5788783e+10 | JT12: 233450000 | JW12: 3.1649204e+10 | JX12: 1.0541789e+08 | JZ12: 16452028 | KA12: 2.2450116e+09 | KC12: 4.7163562e+08 | KD12: 1.1347765e+11 | KF12: 2.6773245e+08 | KG12: 6.6953366e+09 | KJ12: 1.5131586e+11 | KN12: 7.8199357e+10 | KO12: 5.5788783e+10 | KP12: 7.792e+08 | KQ12: 1.2899048e+09 | KR12: 1.9466667e+10 | KU12: 1.1690476e+09 | KW12: 3.6034922e+11 | KX12: 2.0044355e+09 | KY12: 1019900000000 | LA12: 16650000 | LB12: 1.1795044e+10 | LD12: 211300000 | LG12: 2.6908708e+12 | LK12: 1.6780064e+10 | LL12: 1.9657143e+09 | LM12: 1747998800
A13: Australia | B13: GDP (current US$) | C13: 1.8593348e+10 | D13: 1.9666256e+10 | E13: 1.9911524e+10 | F13: 2.1527607e+10 | G13: 2.3787658e+10 | H13: 2.5962594e+10 | I13: 2.728861e+10 | J13: 3.04211e+10 | K13: 3.2687871e+10 | L13: 3.66592e+10 | M13: 4.1304737e+10 | N13: 4.5183111e+10 | O13: 5.2003505e+10 | P13: 6.3782191e+10 | Q13: 8.8906411e+10 | R13: 9.7226546e+10 | S13: 1.0497416e+11 | T13: 1.1026612e+11 | U13: 1.1840063e+11 | V13: 1.3479382e+11 | W13: 1.4988747e+11 | X13: 1.7680483e+11 | Y13: 1.9395454e+11 | Z13: 1.7717642e+11 | AA13: 1.9350389e+11 | AB13: 1.8047097e+11 | AC13: 1.8228176e+11 | AD13: 1.8937599e+11 | AE13: 2.3613577e+11 | AF13: 2.9994137e+11 | AG13: 3.1142593e+11 | AH13: 3.260686e+11 | AI13: 3.2569253e+11 | AJ13: 3.1237282e+11 | AK13: 3.2321688e+11 | AL13: 3.6839174e+11 | AM13: 4.0181942e+11 | AN13: 4.3609798e+11 | AO13: 3.9977888e+11 | AP13: 3.8914651e+11 | AQ13: 4.1544621e+11 | AR13: 3.7889986e+11 | AS13: 3.9463583e+11 | AT13: 4.6685323e+11 | AU13: 6.1332978e+11 | AV13: 6.937641e+11 | AW13: 7.4757263e+11 | AX13: 8.5376462e+11 | AY13: 1.0553348e+12 | AZ13: 9.2716831e+11 | BA13: 1.1428768e+12 | BB13: 1.390557e+12 | BC13: 1.5381945e+12 | BD13: 1.5671786e+12 | BE13: 1.4595979e+12 | BF13: 1.3453831e+12 | BG13: 1.2046164e+12 | BI13: 1970 | BK13: 1.7488866e+09 | BN13: 78619206 | BO13: 3.13855e+10 | BQ13: 3.158421e+10 | BU13: 4.1304737e+10 | BV13: 1.5335972e+10 | BX13: 2.4273257e+08 | BY13: 2.6849174e+10 | BZ13: 3.3362776e+08 | CA13: 4.5840433e+08 | CB13: 8.9927218e+09 | CE13: 5.3842315e+08 | CH13: 53233533 | CI13: 186300000 | CJ13: 1.0171717e+09 | CK13: 4.23276e+10 | CM13: 1.790801e+08 | CO13: 96245114 | CP13: 1.8910655e+08 | CQ13: 8.7896095e+10 | CU13: 9.1263097e+09 | CV13: 9.2602973e+10 | CW13: 1.455483e+09 | CX13: 1.1600023e+09 | CY13: 4.8776849e+09 | CZ13: 2.749607e+08 | DA13: 7.1983605e+09 | DD13: 9.8483016e+08 | DE13: 3.7601997e+09 | DF13: 5693005200 | DK13: 2.1502181e+11 | DN13: 1.7075467e+10 | DO13: 1485400100 | DP13: 4.8634875e+09 | DQ13: 1.2675487e+11 | DR13: 2.7841446e+11 | DS13: 4.0689227e+11 | DU13: 1.0076099e+12 | DV13: 2.8625042e+09 | DW13: 7.6824918e+09 | DX13: 6.4146064e+11 | DZ13: 4.0881655e+10 | EC13: 8.5523435e+11 | EE13: 1.1365954e+10 | EF13: 2.1987848e+08 | EG13: 1.4894886e+11 | EJ13: 3.2380248e+08 | EK13: 1.3067195e+11 | EM13: 2.2150286e+09 | EP13: 52296837 | EQ13: 78733595 | ER13: 66331429 | ES13: 13139862500 | EU13: 69520027 | EV13: 1.904e+09 | EX13: 267800000 | EY13: 2.3796354e+12 | EZ13: 3.8007665e+09 | FA13: 723000000 | FB13: 3.2389167e+10 | FF13: 5.2936275e+11 | FG13: 6.1218663e+11 | FH13: 8.3611704e+10 | FI13: 3.2843394e+10 | FJ13: 9.1506849e+09 | FK13: 5.1155938e+10 | FM13: 6.1589801e+10 | FO13: 4.4003445e+09 | FP13: 1.0976245e+10 | FQ13: 3.2817138e+09 | FR13: 5.3100466e+08 | FS13: 6.2676667e+09 | FT13: 1.1302127e+11 | FU13: 1.4047761e+09 | FV13: 6.3959675e+08 | FW13: 2.1151419e+11 | FY13: 1.6034474e+09 | GA13: 7.1840116e+08 | GB13: 14295280 | GC13: 16300000 | GD13: 8.9992272e+09 | GE13: 2.8739849e+09 | GF13: 1.578807e+11 | GI13: 323099700 | GL13: 1.7659903e+11 | GO13: 90098331 | GP13: 2.2964706e+09 | GQ13: 1.748286e+11 | GR13: 5.9256433e+11 | GS13: 68738625 | GT13: 3.2136534e+11 | GV13: 1.5091551e+09 | GZ13: 3.9563284e+09 | HA13: 2.9307387e+08 | HC13: 1.1118596e+09 | HE13: 4.0541254e+10 | HF13: 35541712000 | HH13: 5.7129642e+11 | HJ13: 3.5977236e+08 | HK13: 2.5072182e+08 | HR13: 2.0934825e+08 | HT13: 2.9052012e+08 | HU13: 3.8641709e+09 | HV13: 1.1639664e+12 | HX13: 3.5881568e+08 | HY13: 6.4991662e+08 | HZ13: 1.2545849e+10 | IA13: 7.7658568e+08 | IB13: 3.7677622e+10 | IC13: 1.2814123e+10 | ID13: 8.6597531e+08 | IG13: 2.3903907e+12 | IH13: 2.562995e+08 | II13: 3.1200005e+09 | IJ13: 1.0027089e+10 | IK13: 1351006400 | IL13: 7.4322232e+09 | IM13: 6.6872048e+09 | IO13: 6.4553713e+08 | IQ13: 2.1951712e+10 | IR13: 5034700000 | IT13: 8.1090328e+09 | IU13: 5.487581e+08 | IX13: 2.3408881e+12 | IY13: 2.54036e+08 | IZ13: 3.017913e+08 | JC13: 219900006 | JD13: 8.4723557e+10 | JE13: 5.3773333e+09 | JF13: 2.4376667e+09 | JG13: 1.0248329e+09 | JH13: 1.9195087e+09 | JJ13: 4.3441037e+08 | JK13: 1132920000 | JO13: 6.5627001e+10 | JQ13: 6.5641311e+10 | JR13: 7.8367872e+09 | JT13: 2.4715e+08 | JW13: 3.7555366e+10 | JX13: 1.1213776e+08 | JZ13: 18432031 | KA13: 2.1403837e+09 | KC13: 4.6926674e+08 | KD13: 1.2649766e+11 | KF13: 2.5397663e+08 | KG13: 7.0865384e+09 | KJ13: 1.6432595e+11 | KN13: 8.4723557e+10 | KO13: 6.5641311e+10 | KP13: 821850000 | KQ13: 1.4392381e+09 | KR13: 1.7086957e+10 | KU13: 1.260084e+09 | KW13: 3.9471233e+11 | KX13: 2.1370968e+09 | KY13: 1075884000000 | LA13: 18450000 | LB13: 1.2848756e+10 | LD13: 219000000 | LG13: 2.9568853e+12 | LK13: 1.8418032e+10 | LL13: 1.8252857e+09 | LM13: 1.8842063e+09
